BEGIN:VCALENDAR
VERSION:2.0
PRODID:-//The Meetinghouse - ECPv6.15.20//NONSGML v1.0//EN
CALSCALE:GREGORIAN
METHOD:PUBLISH
X-WR-CALNAME:The Meetinghouse
X-ORIGINAL-URL:https://meetinghouse.life
X-WR-CALDESC:Events for The Meetinghouse
REFRESH-INTERVAL;VALUE=DURATION:PT1H
X-Robots-Tag:noindex
X-PUBLISHED-TTL:PT1H
BEGIN:VTIMEZONE
TZID:America/New_York
BEGIN:DAYLIGHT
TZOFFSETFROM:-0500
TZOFFSETTO:-0400
TZNAME:EDT
DTSTART:20250309T070000
END:DAYLIGHT
BEGIN:STANDARD
TZOFFSETFROM:-0400
TZOFFSETTO:-0500
TZNAME:EST
DTSTART:20251102T060000
END:STANDARD
BEGIN:DAYLIGHT
TZOFFSETFROM:-0500
TZOFFSETTO:-0400
TZNAME:EDT
DTSTART:20260308T070000
END:DAYLIGHT
BEGIN:STANDARD
TZOFFSETFROM:-0400
TZOFFSETTO:-0500
TZNAME:EST
DTSTART:20261101T060000
END:STANDARD
BEGIN:DAYLIGHT
TZOFFSETFROM:-0500
TZOFFSETTO:-0400
TZNAME:EDT
DTSTART:20270314T070000
END:DAYLIGHT
BEGIN:STANDARD
TZOFFSETFROM:-0400
TZOFFSETTO:-0500
TZNAME:EST
DTSTART:20271107T060000
END:STANDARD
END:VTIMEZONE
BEGIN:VEVENT
DTSTART;VALUE=DATE:20260412
DTEND;VALUE=DATE:20260515
DTSTAMP:20260422T043408
CREATED:20250618T163708Z
LAST-MODIFIED:20250619T165059Z
UID:10004495-1775952000-1778803199@meetinghouse.life
SUMMARY:Art x 4: Four Artists\, Four Visions
DESCRIPTION:On display in The Meetinghouse Gallery \nArt x 4\nFour Artists\, Four Visions\nLinda Berry\, Bonnie Figgatt\, Angela Liptack\, and Peggy Thomas \n  \nApril 12 – May 24\, 2026\nShields Hall\, The Meetinghouse \nThe Gallery is open Tuesdays – Sundays 8:00 am – 4:00 pm for viewing. (Closed Mondays). \n  \n  \nArtists’ Statement\nWe are four friends in art\, a circle of artists with varied visions interpreted across disparate media: monotype\, oil and acrylic\, color pencil\, pen and ink\, watercolor\, graphite\, fabric\, and clay. We share ideas\, offer encouragement\, and critique each other’s work. When one is juried into a show\, we all cheer. When one learns a new technique\, she shares it. We keep each other posted on show openings and other opportunities to experience art together. This show\, Art x 4\, exhibits our individual works\, from landscape to portrait and from still life to fantasy.
URL:https://meetinghouse.life/event/art-x-4-four-artists-four-visions/
LOCATION:CT
CATEGORIES:Arts
ATTACH;FMTTYPE=image/png:https://meetinghouse.life/wp-content/uploads/2025/06/ART-X-4.png
END:VEVENT
END:VCALENDAR