BEGIN:VCALENDAR
VERSION:2.0
PRODID:-//The Meetinghouse - ECPv6.15.20//NONSGML v1.0//EN
CALSCALE:GREGORIAN
METHOD:PUBLISH
X-WR-CALNAME:The Meetinghouse
X-ORIGINAL-URL:https://meetinghouse.life
X-WR-CALDESC:Events for The Meetinghouse
REFRESH-INTERVAL;VALUE=DURATION:PT1H
X-Robots-Tag:noindex
X-PUBLISHED-TTL:PT1H
BEGIN:VTIMEZONE
TZID:America/New_York
BEGIN:DAYLIGHT
TZOFFSETFROM:-0500
TZOFFSETTO:-0400
TZNAME:EDT
DTSTART:20250309T070000
END:DAYLIGHT
BEGIN:STANDARD
TZOFFSETFROM:-0400
TZOFFSETTO:-0500
TZNAME:EST
DTSTART:20251102T060000
END:STANDARD
BEGIN:DAYLIGHT
TZOFFSETFROM:-0500
TZOFFSETTO:-0400
TZNAME:EDT
DTSTART:20260308T070000
END:DAYLIGHT
BEGIN:STANDARD
TZOFFSETFROM:-0400
TZOFFSETTO:-0500
TZNAME:EST
DTSTART:20261101T060000
END:STANDARD
BEGIN:DAYLIGHT
TZOFFSETFROM:-0500
TZOFFSETTO:-0400
TZNAME:EDT
DTSTART:20270314T070000
END:DAYLIGHT
BEGIN:STANDARD
TZOFFSETFROM:-0400
TZOFFSETTO:-0500
TZNAME:EST
DTSTART:20271107T060000
END:STANDARD
END:VTIMEZONE
BEGIN:VEVENT
DTSTART;TZID=America/New_York:20260103T110000
DTEND;TZID=America/New_York:20260103T130000
DTSTAMP:20260419T091657
CREATED:20250925T185400Z
LAST-MODIFIED:20251021T180238Z
UID:10011811-1767438000-1767445200@meetinghouse.life
SUMMARY:Phenology in the New Year
DESCRIPTION:Join us at The Meetinghouse!\nSaturday\, January 3\, 2026\n11:00 am – 1:00 pm\n  \nPhenology is the science of nature’s calendar—tracking when things happen outdoors. Think of it like noticing the first spring flowers\, the arrival of migrating birds\, or the changing colors of fall leaves. Scientists use this information to understand how seasons and climate affect plants and animals. \nIn this fun workshop\, you’ll: \n\nLearn what phenology is and why it matters for our planet.\nSee why timing is important\, like how blooming flowers match up with pollinators or how climate change can shift seasons.\nBecome a citizen scientist! Get tips on observing your own backyard\, schoolyard\, or favorite park and sharing your data to help real scientists.\n\nYou’ll receive starter materials to launch your own nature-tracking adventure. \nWho: Middle school students and up\nCost: $20 per person \nCome explore the rhythms of nature—and start noticing the world in a whole new way! \nLed by Heather Cochrane\, Masters of Environmental Studies and Certified Forest Therapy Guide
URL:https://meetinghouse.life/event/phenology-in-the-new-year/
LOCATION:The Meetinghouse\, 602 Ridgebury Rd.\, Ridgefield\, CT\, 06877\, United States
CATEGORIES:Nature
ATTACH;FMTTYPE=image/png:https://meetinghouse.life/wp-content/uploads/2025/09/Phrenology.png
ORGANIZER;CN="meetinghouse.life":MAILTO:connect@meetinghouse.life
END:VEVENT
END:VCALENDAR