BEGIN:VCALENDAR
VERSION:2.0
PRODID:-//The Meetinghouse - ECPv6.15.20//NONSGML v1.0//EN
CALSCALE:GREGORIAN
METHOD:PUBLISH
X-WR-CALNAME:The Meetinghouse
X-ORIGINAL-URL:https://meetinghouse.life
X-WR-CALDESC:Events for The Meetinghouse
REFRESH-INTERVAL;VALUE=DURATION:PT1H
X-Robots-Tag:noindex
X-PUBLISHED-TTL:PT1H
BEGIN:VTIMEZONE
TZID:America/New_York
BEGIN:DAYLIGHT
TZOFFSETFROM:-0500
TZOFFSETTO:-0400
TZNAME:EDT
DTSTART:20240310T070000
END:DAYLIGHT
BEGIN:STANDARD
TZOFFSETFROM:-0400
TZOFFSETTO:-0500
TZNAME:EST
DTSTART:20241103T060000
END:STANDARD
BEGIN:DAYLIGHT
TZOFFSETFROM:-0500
TZOFFSETTO:-0400
TZNAME:EDT
DTSTART:20250309T070000
END:DAYLIGHT
BEGIN:STANDARD
TZOFFSETFROM:-0400
TZOFFSETTO:-0500
TZNAME:EST
DTSTART:20251102T060000
END:STANDARD
BEGIN:DAYLIGHT
TZOFFSETFROM:-0500
TZOFFSETTO:-0400
TZNAME:EDT
DTSTART:20260308T070000
END:DAYLIGHT
BEGIN:STANDARD
TZOFFSETFROM:-0400
TZOFFSETTO:-0500
TZNAME:EST
DTSTART:20261101T060000
END:STANDARD
END:VTIMEZONE
BEGIN:VEVENT
DTSTART;TZID=America/New_York:20251206T180000
DTEND;TZID=America/New_York:20251206T220000
DTSTAMP:20260423T041341
CREATED:20251106T162811Z
LAST-MODIFIED:20251106T162811Z
UID:10012612-1765044000-1765058400@meetinghouse.life
SUMMARY:Live in Shields Hall: Roman's Birthday Show!
DESCRIPTION:Coming up in Shields Hall\nRoman’s Birthday Show!\nSaturday\, December 6\, 2025\nDoors open at 6 pm\, with music from 7:00 pm – 10:00 pm.\n\n\nFeaturing experimental freakcore by Mr. Beast Death 2030\, grunge / alt metal by Deernest\, and hardcore by Dogheaven. All ages welcome! \nTickets are $10 online and $12 at the door.
URL:https://meetinghouse.life/event/romans-birthday-show/
LOCATION:The Meetinghouse\, 602 Ridgebury Rd.\, Ridgefield\, CT\, 06877\, United States
CATEGORIES:Community,Music
ATTACH;FMTTYPE=image/jpeg:https://meetinghouse.life/wp-content/uploads/2025/11/romanbday.jpg
ORGANIZER;CN="meetinghouse.life":MAILTO:connect@meetinghouse.life
END:VEVENT
END:VCALENDAR