BEGIN:VCALENDAR
VERSION:2.0
PRODID:-//The Meetinghouse - ECPv6.15.20//NONSGML v1.0//EN
CALSCALE:GREGORIAN
METHOD:PUBLISH
X-WR-CALNAME:The Meetinghouse
X-ORIGINAL-URL:https://meetinghouse.life
X-WR-CALDESC:Events for The Meetinghouse
REFRESH-INTERVAL;VALUE=DURATION:PT1H
X-Robots-Tag:noindex
X-PUBLISHED-TTL:PT1H
BEGIN:VTIMEZONE
TZID:America/New_York
BEGIN:DAYLIGHT
TZOFFSETFROM:-0500
TZOFFSETTO:-0400
TZNAME:EDT
DTSTART:20250309T070000
END:DAYLIGHT
BEGIN:STANDARD
TZOFFSETFROM:-0400
TZOFFSETTO:-0500
TZNAME:EST
DTSTART:20251102T060000
END:STANDARD
BEGIN:DAYLIGHT
TZOFFSETFROM:-0500
TZOFFSETTO:-0400
TZNAME:EDT
DTSTART:20260308T070000
END:DAYLIGHT
BEGIN:STANDARD
TZOFFSETFROM:-0400
TZOFFSETTO:-0500
TZNAME:EST
DTSTART:20261101T060000
END:STANDARD
BEGIN:DAYLIGHT
TZOFFSETFROM:-0500
TZOFFSETTO:-0400
TZNAME:EDT
DTSTART:20270314T070000
END:DAYLIGHT
BEGIN:STANDARD
TZOFFSETFROM:-0400
TZOFFSETTO:-0500
TZNAME:EST
DTSTART:20271107T060000
END:STANDARD
END:VTIMEZONE
BEGIN:VEVENT
DTSTART;TZID=America/New_York:20260508T180000
DTEND;TZID=America/New_York:20260508T220000
DTSTAMP:20260423T075529
CREATED:20260422T180458Z
LAST-MODIFIED:20260422T180459Z
UID:10012825-1778263200-1778277600@meetinghouse.life
SUMMARY:Margot Miller's EP Release Show! With Old Milk Mooney and Chris Daly
DESCRIPTION:Stop by the Meetinghouse on Friday\, 5/8 to experience the live release of Margot Miller’s brand new EP! Doors at 6\, music at 7. Featuring performances by Old Milk Mooney and Chris Daly.
URL:https://meetinghouse.life/event/margot-millers-ep-release-show-with-old-milk-mooney-and-chris-daly/
LOCATION:The Meetinghouse\, 602 Ridgebury Rd.\, Ridgefield\, CT\, 06877\, United States
CATEGORIES:Arts,Music
ATTACH;FMTTYPE=image/jpeg:https://meetinghouse.life/wp-content/uploads/2026/04/A8AA96CD-02ED-47F1-A32B-99ACCCAAB40A.jpg
ORGANIZER;CN="meetinghouse.life":MAILTO:connect@meetinghouse.life
END:VEVENT
BEGIN:VEVENT
DTSTART;TZID=America/New_York:20260517T150000
DTEND;TZID=America/New_York:20260517T170000
DTSTAMP:20260423T075529
CREATED:20260213T185340Z
LAST-MODIFIED:20260213T185349Z
UID:10012686-1779030000-1779037200@meetinghouse.life
SUMMARY:Special Writer's Open Mic with WCSU
DESCRIPTION:Join Western Connecticut State University’s Department of Creative & Professional Writing Program for a Writers’ Open Mic with Pop-up Book Shop and Featured Reader\, Lisa Acerbo!\n\nHosted by Poor Yorick\, the MFA program’s affiliated literary journal\, this event celebrates both WCSU’s lifelong community of writers and the vibrant literary voices of the Greater Danbury Area. We’re excited to share our program’s long-standing tradition of these open mics with the local community beyond the boundaries of our campus with an evening of storytelling\, poetry\, and prose of every kind at The Market at The Meetinghouse. This event will feature a Pop-up Book Shop hosted by Rainy Day Paperback Exchange of Bethel\, CT\, offering a curated selection of used books.\n\n\nThis event is open to the public! All writers are welcome to read their works* and all readers invited to sit back and enjoy!\n\n*Please note: Current WCSU MFA students will receive priority for reading opportunities
URL:https://meetinghouse.life/event/open-mic-at-the-market-3-5/
LOCATION:The Meetinghouse\, 602 Ridgebury Rd.\, Ridgefield\, CT\, 06877\, United States
CATEGORIES:Community,Music
ORGANIZER;CN="meetinghouse.life":MAILTO:connect@meetinghouse.life
END:VEVENT
BEGIN:VEVENT
DTSTART;TZID=America/New_York:20260524T140000
DTEND;TZID=America/New_York:20260524T160000
DTSTAMP:20260423T075529
CREATED:20260416T012019Z
LAST-MODIFIED:20260416T012019Z
UID:10012824-1779631200-1779638400@meetinghouse.life
SUMMARY:Acoustic Song Circle
DESCRIPTION:The monthly acoustic song circle is for anyone who enjoys singing or playing an instrument. Everyone takes a turn and may invite others to sing and play along. \nThe next Acoustic Song Circle will be Sunday\, May 24\, 2026 from 2:00 – 4:00 pm. \n 
URL:https://meetinghouse.life/event/acoustic-song-circle-11/
LOCATION:The Meetinghouse\, 602 Ridgebury Rd.\, Ridgefield\, CT\, 06877\, United States
CATEGORIES:Community,Music
ATTACH;FMTTYPE=image/png:https://meetinghouse.life/wp-content/uploads/2025/05/Acoustic-Song-Circle.png
ORGANIZER;CN="meetinghouse.life":MAILTO:connect@meetinghouse.life
END:VEVENT
END:VCALENDAR