BEGIN:VCALENDAR
VERSION:2.0
PRODID:-//The Meetinghouse - ECPv6.15.20//NONSGML v1.0//EN
CALSCALE:GREGORIAN
METHOD:PUBLISH
X-ORIGINAL-URL:https://meetinghouse.life
X-WR-CALDESC:Events for The Meetinghouse
REFRESH-INTERVAL;VALUE=DURATION:PT1H
X-Robots-Tag:noindex
X-PUBLISHED-TTL:PT1H
BEGIN:VTIMEZONE
TZID:America/New_York
BEGIN:DAYLIGHT
TZOFFSETFROM:-0500
TZOFFSETTO:-0400
TZNAME:EDT
DTSTART:20240310T070000
END:DAYLIGHT
BEGIN:STANDARD
TZOFFSETFROM:-0400
TZOFFSETTO:-0500
TZNAME:EST
DTSTART:20241103T060000
END:STANDARD
BEGIN:DAYLIGHT
TZOFFSETFROM:-0500
TZOFFSETTO:-0400
TZNAME:EDT
DTSTART:20250309T070000
END:DAYLIGHT
BEGIN:STANDARD
TZOFFSETFROM:-0400
TZOFFSETTO:-0500
TZNAME:EST
DTSTART:20251102T060000
END:STANDARD
BEGIN:DAYLIGHT
TZOFFSETFROM:-0500
TZOFFSETTO:-0400
TZNAME:EDT
DTSTART:20260308T070000
END:DAYLIGHT
BEGIN:STANDARD
TZOFFSETFROM:-0400
TZOFFSETTO:-0500
TZNAME:EST
DTSTART:20261101T060000
END:STANDARD
END:VTIMEZONE
BEGIN:VEVENT
DTSTART;TZID=America/New_York:20250409T163000
DTEND;TZID=America/New_York:20250409T173000
DTSTAMP:20260420T060248
CREATED:20250408T021026Z
LAST-MODIFIED:20250409T135125Z
UID:10000008-1744216200-1744219800@meetinghouse.life
SUMMARY:Zen Meditation
DESCRIPTION:Join us for a free Zen Meditation (‘Zazen’) session at The Meetinghouse:\nWednesday\, April 9\, 2025\n4:30 pm – 5:30 pm\n  \nIn today’s fast-changing world\, meditation offers a powerful path to balance and integration. At The Meetinghouse\, we provide a variety of meditation practices throughout the year to help you reconnect with yourself. \nOur Meditation sessions offer practical insights and benefits\, including: \n\nGently shifting your focus from a restless mind to the present moment\nCultivating gratitude and compassion in daily life\nTapping into the heightened energy and focus that comes from meditating with a group\n\nWhether you’re new to meditation or have an established practice\, we invite you to join us. All levels are welcome.
URL:https://meetinghouse.life/event/zen-meditation-april-9-2025/
LOCATION:The Meetinghouse\, 602 Ridgebury Rd.\, Ridgefield\, CT\, 06877\, United States
CATEGORIES:Wellness
ATTACH;FMTTYPE=image/png:https://meetinghouse.life/wp-content/uploads/2025/04/Zen-Meditation.png
ORGANIZER;CN="meetinghouse.life":MAILTO:connect@meetinghouse.life
END:VEVENT
BEGIN:VEVENT
DTSTART;TZID=America/New_York:20250412T093000
DTEND;TZID=America/New_York:20250412T103000
DTSTAMP:20260420T060248
CREATED:20250411T130908Z
LAST-MODIFIED:20250701T164939Z
UID:10001578-1744450200-1744453800@meetinghouse.life
SUMMARY:Pilates Fusion
DESCRIPTION:Pilates fusion is a 45-minute class that blends yoga and mat Pilates to give you all of the benefits of yoga with additional focus on strengthening the core. \nPlease Note: Class begins at 9:45 am. \nSign Up Here
URL:https://meetinghouse.life/event/pilates-fusion/2025-04-12/
LOCATION:CT
CATEGORIES:Wellness
ATTACH;FMTTYPE=image/png:https://meetinghouse.life/wp-content/uploads/2025/04/Pilates-Fusion-1.png
END:VEVENT
BEGIN:VEVENT
DTSTART;TZID=America/New_York:20250415T093000
DTEND;TZID=America/New_York:20250415T103000
DTSTAMP:20260420T060248
CREATED:20250411T133912Z
LAST-MODIFIED:20250701T164922Z
UID:10002622-1744709400-1744713000@meetinghouse.life
SUMMARY:Pilates Fusion
DESCRIPTION:Pilates fusion is a 45-minute class that blends yoga and mat Pilates to give you all of the benefits of yoga with additional focus on strengthening the core. \nSign Up Here
URL:https://meetinghouse.life/event/pilates-fusion-2/2025-04-15/
LOCATION:The Meetinghouse\, 602 Ridgebury Rd.\, Ridgefield\, CT\, 06877\, United States
CATEGORIES:Wellness
ATTACH;FMTTYPE=image/png:https://meetinghouse.life/wp-content/uploads/2025/04/Pilates-Fusion-1.png
ORGANIZER;CN="meetinghouse.life":MAILTO:connect@meetinghouse.life
END:VEVENT
BEGIN:VEVENT
DTSTART;TZID=America/New_York:20250419T093000
DTEND;TZID=America/New_York:20250419T103000
DTSTAMP:20260420T060248
CREATED:20250411T130908Z
LAST-MODIFIED:20250701T164939Z
UID:10001579-1745055000-1745058600@meetinghouse.life
SUMMARY:Pilates Fusion
DESCRIPTION:Pilates fusion is a 45-minute class that blends yoga and mat Pilates to give you all of the benefits of yoga with additional focus on strengthening the core. \nPlease Note: Class begins at 9:45 am. \nSign Up Here
URL:https://meetinghouse.life/event/pilates-fusion/2025-04-19/
LOCATION:CT
CATEGORIES:Wellness
ATTACH;FMTTYPE=image/png:https://meetinghouse.life/wp-content/uploads/2025/04/Pilates-Fusion-1.png
END:VEVENT
BEGIN:VEVENT
DTSTART;TZID=America/New_York:20250422T093000
DTEND;TZID=America/New_York:20250422T103000
DTSTAMP:20260420T060248
CREATED:20250411T133912Z
LAST-MODIFIED:20250701T164922Z
UID:10002623-1745314200-1745317800@meetinghouse.life
SUMMARY:Pilates Fusion
DESCRIPTION:Pilates fusion is a 45-minute class that blends yoga and mat Pilates to give you all of the benefits of yoga with additional focus on strengthening the core. \nSign Up Here
URL:https://meetinghouse.life/event/pilates-fusion-2/2025-04-22/
LOCATION:The Meetinghouse\, 602 Ridgebury Rd.\, Ridgefield\, CT\, 06877\, United States
CATEGORIES:Wellness
ATTACH;FMTTYPE=image/png:https://meetinghouse.life/wp-content/uploads/2025/04/Pilates-Fusion-1.png
ORGANIZER;CN="meetinghouse.life":MAILTO:connect@meetinghouse.life
END:VEVENT
BEGIN:VEVENT
DTSTART;TZID=America/New_York:20250426T093000
DTEND;TZID=America/New_York:20250426T103000
DTSTAMP:20260420T060248
CREATED:20250411T130908Z
LAST-MODIFIED:20250701T164939Z
UID:10001580-1745659800-1745663400@meetinghouse.life
SUMMARY:Pilates Fusion
DESCRIPTION:Pilates fusion is a 45-minute class that blends yoga and mat Pilates to give you all of the benefits of yoga with additional focus on strengthening the core. \nPlease Note: Class begins at 9:45 am. \nSign Up Here
URL:https://meetinghouse.life/event/pilates-fusion/2025-04-26/
LOCATION:CT
CATEGORIES:Wellness
ATTACH;FMTTYPE=image/png:https://meetinghouse.life/wp-content/uploads/2025/04/Pilates-Fusion-1.png
END:VEVENT
BEGIN:VEVENT
DTSTART;TZID=America/New_York:20250429T093000
DTEND;TZID=America/New_York:20250429T103000
DTSTAMP:20260420T060248
CREATED:20250411T133912Z
LAST-MODIFIED:20250701T164922Z
UID:10002624-1745919000-1745922600@meetinghouse.life
SUMMARY:Pilates Fusion
DESCRIPTION:Pilates fusion is a 45-minute class that blends yoga and mat Pilates to give you all of the benefits of yoga with additional focus on strengthening the core. \nSign Up Here
URL:https://meetinghouse.life/event/pilates-fusion-2/2025-04-29/
LOCATION:The Meetinghouse\, 602 Ridgebury Rd.\, Ridgefield\, CT\, 06877\, United States
CATEGORIES:Wellness
ATTACH;FMTTYPE=image/png:https://meetinghouse.life/wp-content/uploads/2025/04/Pilates-Fusion-1.png
ORGANIZER;CN="meetinghouse.life":MAILTO:connect@meetinghouse.life
END:VEVENT
END:VCALENDAR